BEGIN:VCALENDAR
VERSION:2.0
PRODID:-//Life &amp; Fork Cooking School - ECPv6.15.18//NONSGML v1.0//EN
CALSCALE:GREGORIAN
METHOD:PUBLISH
X-WR-CALNAME:Life &amp; Fork Cooking School
X-ORIGINAL-URL:https://lifeandforkcookingschool.com.au
X-WR-CALDESC:Events for Life &amp; Fork Cooking School
REFRESH-INTERVAL;VALUE=DURATION:PT1H
X-Robots-Tag:noindex
X-PUBLISHED-TTL:PT1H
BEGIN:VTIMEZONE
TZID:Australia/Melbourne
BEGIN:STANDARD
TZOFFSETFROM:+1100
TZOFFSETTO:+1000
TZNAME:AEST
DTSTART:20240406T160000
END:STANDARD
BEGIN:DAYLIGHT
TZOFFSETFROM:+1000
TZOFFSETTO:+1100
TZNAME:AEDT
DTSTART:20241005T160000
END:DAYLIGHT
BEGIN:STANDARD
TZOFFSETFROM:+1100
TZOFFSETTO:+1000
TZNAME:AEST
DTSTART:20250405T160000
END:STANDARD
BEGIN:DAYLIGHT
TZOFFSETFROM:+1000
TZOFFSETTO:+1100
TZNAME:AEDT
DTSTART:20251004T160000
END:DAYLIGHT
BEGIN:STANDARD
TZOFFSETFROM:+1100
TZOFFSETTO:+1000
TZNAME:AEST
DTSTART:20260404T160000
END:STANDARD
BEGIN:DAYLIGHT
TZOFFSETFROM:+1000
TZOFFSETTO:+1100
TZNAME:AEDT
DTSTART:20261003T160000
END:DAYLIGHT
BEGIN:STANDARD
TZOFFSETFROM:+1100
TZOFFSETTO:+1000
TZNAME:AEST
DTSTART:20270403T160000
END:STANDARD
BEGIN:DAYLIGHT
TZOFFSETFROM:+1000
TZOFFSETTO:+1100
TZNAME:AEDT
DTSTART:20271002T160000
END:DAYLIGHT
END:VTIMEZONE
BEGIN:VEVENT
DTSTART;TZID=Australia/Melbourne:20250704T100000
DTEND;TZID=Australia/Melbourne:20250704T120000
DTSTAMP:20260424T205402
CREATED:20241125T070017Z
LAST-MODIFIED:20250629T043443Z
UID:3185-1751623200-1751630400@lifeandforkcookingschool.com.au
SUMMARY:Pasta Cooking Class\, Express\, 101   SOLD OUT
DESCRIPTION:Unleash your inner Italian chef at Life and Fork cooking school’s Pasta Cooking Class! This engaging express class combines demonstration and hands-on practice\, guiding you through the simple yet exquisite art of handmade pasta. You’ll learn to create pasta dough with both egg and semolina\, mastering techniques by hand and with a pasta machine. Prepare for a taste sensation – once you’ve made your own handmade pasta\, there’s no turning back! Suitable for all skill levels\, you’ll craft two iconic pasta dishes: elegant tagliatelle (made with a machine) and flavorful ricotta and spinach ravioli. To finish with a flavourful sage butter sauce to complement your tagliatelle and crostoli. Book Now !\nWe will cook:\nRavioli filled with ricotta and spinach.\nTagliatelle with Sage butter sauce.\nCrostoli.\nLocation: Macedon Ranges.\nCost: $80 per person\, or $60 per person for groups of 4 or more.\nDuration:2 hrs.\nTake home meals.\nBook here for other express classes. Email here for group bookings and more  information.
URL:https://lifeandforkcookingschool.com.au/event/express-pasta-101-cooking-class/
LOCATION:Life & Fork HQ\, Woodend\, Victoria\, 3442\, Australia
CATEGORIES:Adults,Express cooking class,italian,Pasta,vegetarian
ATTACH;FMTTYPE=image/jpeg:https://lifeandforkcookingschool.com.au/wp-content/uploads/2020/07/20200707-DSC02696-scaled.jpg
ORGANIZER;CN="Life & Fork Cooking School":MAILTO:info@lifeandforkcookingschool.com.au
END:VEVENT
BEGIN:VEVENT
DTSTART;TZID=Australia/Melbourne:20250714T090000
DTEND;TZID=Australia/Melbourne:20250714T233000
DTSTAMP:20260424T205402
CREATED:20250430T030324Z
LAST-MODIFIED:20250430T051140Z
UID:3555-1752483600-1752535800@lifeandforkcookingschool.com.au
SUMMARY:Kids French cooking class\, School Holiday .
DESCRIPTION:The French Cooking Class for kids is  designed to celebrate the excitement and diversity of cultural cooking. Through our holiday program series\, children will learn to create dishes from Italy\, France\, and various regions of Asia. Additionally\, they will gain an understanding of where our food comes from and how our culinary choices can positively impact both people and the environment. \nAt Life and Fork Cooking School we believe that every child should have the opportunity to learn how to cook nutritious and delicious food\, allowing them to enjoy it and share it with others throughout their lives.\nGuided by experienced instructors\, children will develop a variety of skills\,building their confidence\, culinary knowledge\, and palate while fostering a positive attitude towards food. This series of classes aims to provide a foundation for healthy cooking and new ways to engage with food.\nFrench Cooking Class for Kids.\nVegetable Tarte Tain\nHazelut Chocolate pots de creme\nAge:10-15\n2.5 hrs\nStudents have the option to join additional classes during these school holidays for further learning opportunities\, discounts apply when booking two or more classes. Futher information please contact via email (here)
URL:https://lifeandforkcookingschool.com.au/event/french-cooking-class-school-holiday-program/
LOCATION:Life & Fork HQ\, Woodend\, Victoria\, 3442\, Australia
CATEGORIES:Afterschoolcookingclass,Express cooking class,French,School Holiday cooking classes,School holiday kids
ATTACH;FMTTYPE=image/jpeg:https://lifeandforkcookingschool.com.au/wp-content/uploads/2021/10/Life-and-Fork-Cooking-School-08166.jpg
ORGANIZER;CN="Life & Fork Cooking School":MAILTO:info@lifeandforkcookingschool.com.au
END:VEVENT
BEGIN:VEVENT
DTSTART;TZID=Australia/Melbourne:20250715T090000
DTEND;TZID=Australia/Melbourne:20250715T233000
DTSTAMP:20260424T205402
CREATED:20250430T054133Z
LAST-MODIFIED:20250430T054133Z
UID:3560-1752570000-1752622200@lifeandforkcookingschool.com.au
SUMMARY:Noodle making\, Chinese Street food
DESCRIPTION:Our  Noodle making\, Chinese Street Food Cooking Class is a fantastic way to dive into the vibrant world of cultural cooking! Part of Life and Forks exciting holiday program\, this hands-on experience lets children discover the art of making Chinese noodles from scratch. They’ll get creative with a variety of delicious toppings and flavour combinations. \nWhether it’s a warm winter day or a sunny summer afternoon\, this versatile street food is a treat year-round. Traditionally a popular after-school snack for kids\, these noodles are typically served cold and offer a delightful balance of salty and sour flavours\, with the option to add a spicy kick to suit individual tastes. Join us to explore the exciting flavours of Asia and learn where our food comes from\, understanding how our culinary choices can positively impact both people and the environment. \n\nLocation: Macedon Ranges\nAge:10-15.\nDuration:2.5 hrs.\nFor information of the French or Pasta class click here.Students have the option to join additional classes during these school holidays for further learning opportunities\, discounts apply when booking two or more classes. Futher information please contact via email (here)
URL:https://lifeandforkcookingschool.com.au/event/noodle-making-chinese-street-food/
LOCATION:Life & Fork HQ\, Woodend\, Victoria\, 3442\, Australia
CATEGORIES:Afterschoolcookingclass,School Holiday cooking classes,School holiday kids,Teens Cooking
ATTACH;FMTTYPE=image/jpeg:https://lifeandforkcookingschool.com.au/wp-content/uploads/2020/07/20200707-DSC02596-scaled.jpg
ORGANIZER;CN="Life & Fork Cooking School":MAILTO:info@lifeandforkcookingschool.com.au
END:VEVENT
BEGIN:VEVENT
DTSTART;TZID=Australia/Melbourne:20250716T090000
DTEND;TZID=Australia/Melbourne:20250716T113000
DTSTAMP:20260424T205402
CREATED:20250430T025038Z
LAST-MODIFIED:20250629T034200Z
UID:3545-1752656400-1752665400@lifeandforkcookingschool.com.au
SUMMARY:Pasta class\, School Holiday Program
DESCRIPTION:At Life and Forks kids’ cooking classes\, we’re passionate about empowering children with the skills to create nutritious and delicious meals they can enjoy and share for life.\nOur holiday program dives into the exciting world of cultural cooking\, where kids will learn to prepare dishes from Italy\, France\, and Asia. Beyond the kitchen\, we’ll\nexplore where our food comes from and how our choices can make a positive difference for people and our planet.\nUnder the guidance of experienced instructors\, children will develop a range of culinary skills\, building their confidence\, expanding their food knowledge\, and broadening their palates. This series of classes aims to lay a foundation for healthy cooking habits and cultivate a joyful connection with food.\nPasta class:\nHand rolled Pici Pasta\nCavetelli sauce alfredo.\nCrostoli.\nAge:10-15.\n2.5 hrs.\nStudents have the option to join additional classes during these school holidays for further learning opportunities and discounts apply. Futher information please contact via email (here)
URL:https://lifeandforkcookingschool.com.au/event/pasta-class-school-holiday-program/
LOCATION:Life & Fork HQ\, Woodend\, Victoria\, 3442\, Australia
CATEGORIES:italian,School Holiday cooking classes,School holiday kids
ATTACH;FMTTYPE=image/jpeg:https://lifeandforkcookingschool.com.au/wp-content/uploads/2025/04/IMG_7257.jpg
ORGANIZER;CN="Life & Fork Cooking School":MAILTO:info@lifeandforkcookingschool.com.au
END:VEVENT
BEGIN:VEVENT
DTSTART;TZID=Australia/Melbourne:20250719T100000
DTEND;TZID=Australia/Melbourne:20250719T133000
DTSTAMP:20260424T205402
CREATED:20250425T044408Z
LAST-MODIFIED:20250425T044636Z
UID:3460-1752919200-1752931800@lifeandforkcookingschool.com.au
SUMMARY:French Cooking Class
DESCRIPTION:In this 3.5hr cooking class you’ll unlock  the secrets of classic\nFrench cuisine. Our classically trained chef  will guide you helping\nto channel your inner Julia Child as you learn to create a  memoriable three course meal.\nStarting with shamelessly flavourful french onion soup\, mains\,\niconic beef bouduignon to a zesty tarte au citron.\nDiscover the tricks of authentic French cooking and equip yourself with the recipes and skills to wow your guests. \nThis tasty three course cooking class includes.\nFrench onion soup\nBeef Bouguignon\nTarte au citron.\nlocation: Macedon Ranges\ncost $135pp   (groups 4 or more $105pp).Including lunch
URL:https://lifeandforkcookingschool.com.au/event/french-cooking-class-3/
LOCATION:Life & Fork HQ\, Woodend\, Victoria\, 3442\, Australia
CATEGORIES:Adults,French,Skills
ATTACH;FMTTYPE=image/jpeg:https://lifeandforkcookingschool.com.au/wp-content/uploads/2025/04/5FD799B8-416B-42B9-912F-4C216FD1AB10.jpeg
ORGANIZER;CN="Life & Fork Cooking School":MAILTO:info@lifeandforkcookingschool.com.au
END:VEVENT
BEGIN:VEVENT
DTSTART;TZID=Australia/Melbourne:20250822T140000
DTEND;TZID=Australia/Melbourne:20250822T160000
DTSTAMP:20260424T205402
CREATED:20250428T075829Z
LAST-MODIFIED:20250629T044750Z
UID:3520-1755871200-1755878400@lifeandforkcookingschool.com.au
SUMMARY:Hand rolled Pasta Class\, Express
DESCRIPTION:Discover the simple beauty of Italian pasta making in this beginner-friendly class! This engaging express class combines demonstration and hands-on practice\, guiding you through the simple yet exquisite art of handmade pasta. Using the freshest ingredients\, you’ll learn step-by-step how to create silky dough by hand and shape delicious Pici and Cavatelli. Once you taste your own handmade pasta\, you’ll be hooked! With a maximum of 8 participants\, you’re guaranteed an intimate and supportive learning environment. Absolutely no prior experience is necessary\, making this culinary adventure accessible to everyone. By the end of the session\, you’ll not only feel confident and inspired to bring an authentic taste of Italy to your kitchen but also eager to share your newfound skills with family and friends\, take extra home to share.\nWe will Hand make :\nPici pasta cacio e pepe\nCavatelli  simple tomatoe sauce\nLocation: Macedon Ranges.\nCost: $80 per person\, or $60 per person for groups of 4 or more.\nDuration: 2 hrs.\nBring a 2 lit container to take goodies.\nBook here for other express classes. Email here for group bookings and more information.
URL:https://lifeandforkcookingschool.com.au/event/hand-rolled-pasta-class-express/
LOCATION:Life & Fork HQ\, Woodend\, Victoria\, 3442\, Australia
CATEGORIES:Adults,Express cooking class,italian,Pasta
ATTACH;FMTTYPE=image/jpeg:https://lifeandforkcookingschool.com.au/wp-content/uploads/2024/01/Life-and-Fork-Cooking-School-2023-11-01-00021.jpg
ORGANIZER;CN="Life & Fork Cooking School":MAILTO:info@lifeandforkcookingschool.com.au
END:VEVENT
BEGIN:VEVENT
DTSTART;TZID=Australia/Melbourne:20250823T100000
DTEND;TZID=Australia/Melbourne:20250823T133000
DTSTAMP:20260424T205402
CREATED:20250425T045759Z
LAST-MODIFIED:20250629T045451Z
UID:3468-1755943200-1755955800@lifeandforkcookingschool.com.au
SUMMARY:Vegetarian cooking Class\,
DESCRIPTION:At Life and Fork cooking school\, this vegetarian cooking class\,\nsymphony of flavours  combines demonstration with hands-on group\npractice. Students work in pairs to then enjoy a feast of their prepared meals.\nLearn to prepare and cook three different dishes that will appeal\nto various tastes. From savoury to sweet\, each recipe is designed to\nbe rich in flavour\, showcases unique ingredients and techniques. Regardless\nof your cooking experience\, this hands-on class aims to enhance\nyour culinary skills as you prepare:\nBeetroot Carpaccio\nBeetroot curry with Kale Mallung\nPinapple caparccio infused with chinese spices\nLocation: Macedon Ranges.\n3.5hrs: Includes lunch\nCost: 135pp\, book group4+ 105 pp\, for more information email here.\nOther vegetarian class are available\,click here If you wish to book
URL:https://lifeandforkcookingschool.com.au/event/vegetarian-cooking-class-the-exotic/
LOCATION:Life & Fork HQ\, Woodend\, Victoria\, 3442\, Australia
CATEGORIES:Adults,Express cooking class,vegetarian,vegetarian cooking class
ATTACH;FMTTYPE=image/jpeg:https://lifeandforkcookingschool.com.au/wp-content/uploads/2024/01/IMG_1526.jpg
ORGANIZER;CN="Life & Fork Cooking School":MAILTO:info@lifeandforkcookingschool.com.au
END:VEVENT
BEGIN:VEVENT
DTSTART;TZID=Australia/Melbourne:20250829T103000
DTEND;TZID=Australia/Melbourne:20250829T123000
DTSTAMP:20260424T205402
CREATED:20250426T103322Z
LAST-MODIFIED:20250629T043828Z
UID:3505-1756463400-1756470600@lifeandforkcookingschool.com.au
SUMMARY:Pasta Class\, Express 101
DESCRIPTION:Unleash your inner Italian chef at Life and Fork cooking school’s Pasta Cooking Class! This engaging express class combines demonstration and hands-on practice\, guiding you through the simple yet exquisite art of handmade pasta. You’ll learn to create pasta dough with both egg and semolina\, mastering techniques by hand and with a pasta machine. Prepare for a taste sensation – once you’ve made your own handmade pasta\, there’s no turning back! Suitable for all skill levels\, you’ll craft two iconic pasta dishes: elegant tagliatelle (made with a machine) and flavorful ricotta and spinach ravioli. To finish with a flavourful sage butter sauce to complement your tagliatelle and crostoli. Book Now !\nWe will cook:\nRavioli filled with ricotta and spinach.\nTagliatelle with Sage butter sauce.\nCrostoli.\nLocation: Macedon Ranges.\nCost: $80 per person\, or $60 per person for groups of 4 or more.\nDuration: 2 hrs.\nTake home meals.\nBook here for other express classes. Email here for group bookings and more  information.
URL:https://lifeandforkcookingschool.com.au/event/pasta-class-express-101/
LOCATION:Life & Fork HQ\, Woodend\, Victoria\, 3442\, Australia
CATEGORIES:Adults,Express cooking class,italian,Pasta
ATTACH;FMTTYPE=image/jpeg:https://lifeandforkcookingschool.com.au/wp-content/uploads/2020/07/20200707-DSC02696-scaled.jpg
ORGANIZER;CN="Life & Fork Cooking School":MAILTO:info@lifeandforkcookingschool.com.au
END:VEVENT
BEGIN:VEVENT
DTSTART;TZID=Australia/Melbourne:20250829T140000
DTEND;TZID=Australia/Melbourne:20250829T160000
DTSTAMP:20260424T205402
CREATED:20250426T073051Z
LAST-MODIFIED:20250629T044417Z
UID:3491-1756476000-1756483200@lifeandforkcookingschool.com.au
SUMMARY:Master Thai Sauces \, Cooking Class
DESCRIPTION:In life and fork cooking school\, master thai sauces express cooking class  you will experience the magic of thai cooking. This engaging 2-hour express cooking class with demonstration and hands-on practice\, you’ll learn to craft fundamental thai flavours. To achieve the balance of sweet\, sour\, salty\, and spicy that makes thai food so irrestiable. We will explore the myriad ways these sauces can be used by making peanut satay\, chilli jam\, and namh jim sauce and discover how these versatile sauces can elevate countless dishes.\nClassic Peanut Satay\nNahm Jim\nChilli Jam\nCost: $80 per person\, ($60 per person for groups of 4+.)\nLocation: Macedon Ranges\nDuration: 2 hours\nClick here for more information on Express cooking class
URL:https://lifeandforkcookingschool.com.au/event/master-thai-sauces-cooking-class-2/
LOCATION:Life & Fork HQ\, Woodend\, Victoria\, 3442\, Australia
CATEGORIES:Adults,Express cooking class,vegetarian
ATTACH;FMTTYPE=image/jpeg:https://lifeandforkcookingschool.com.au/wp-content/uploads/2025/04/Life-Fork_2025-02-07-112.jpg
ORGANIZER;CN="Life & Fork Cooking School":MAILTO:info@lifeandforkcookingschool.com.au
END:VEVENT
BEGIN:VEVENT
DTSTART;TZID=Australia/Melbourne:20251109T100000
DTEND;TZID=Australia/Melbourne:20251109T133000
DTSTAMP:20260424T205402
CREATED:20250425T012214Z
LAST-MODIFIED:20250429T110911Z
UID:3448-1762682400-1762695000@lifeandforkcookingschool.com.au
SUMMARY:Vegetarian Cooking Class\, Symphony of Flavours.
DESCRIPTION:Immerse yourself in a symphony of vegetarian flavours at Life and Fork’s cooking class. This engaging experience of hands-on group practice\, empowering you to create delicious and vibrant plant-based dishes. The vegetarian 3 course menu consisting of\, entree will experience the refreshing and earthy notes of beetroot and avocado tartare\, perfectly complemented by a zesty soused dikon salad. Main Course you will unleash your inner chef as you learn to create a fragrant and aromatic laksa paste\, culminating in a richly flavoured dish.Dessert indulge in the sweet and spiced delights of an elegant asian seasonal spiced tarte tatin.What we will cook :\nBeetroot avocado tartare with soused dikon salad\nLaksa paste to dish\nRoasted asian spiced tart taine\nLocation: Macedon Ranges.\n3.5hrs: Includes lunch\nCost: 135pp\, book group4+ 105 pp\, for more information email here.\nIf you wish to book vegetarian cooking extoic flavours click here.
URL:https://lifeandforkcookingschool.com.au/event/vegetarian-cooking-class-symphony-of-flavours/
LOCATION:Life & Fork HQ\, Woodend\, Victoria\, 3442\, Australia
CATEGORIES:Adults,vegetarian,vegetarian cooking class
ATTACH;FMTTYPE=image/jpeg:https://lifeandforkcookingschool.com.au/wp-content/uploads/2021/10/Life-and-Fork-Cooking-School-00927.jpg
ORGANIZER;CN="Life & Fork Cooking School":MAILTO:info@lifeandforkcookingschool.com.au
END:VEVENT
BEGIN:VEVENT
DTSTART;TZID=Australia/Melbourne:20260228T093000
DTEND;TZID=Australia/Melbourne:20260228T113000
DTSTAMP:20260424T205402
CREATED:20260106T003223Z
LAST-MODIFIED:20260226T054414Z
UID:3621-1772271000-1772278200@lifeandforkcookingschool.com.au
SUMMARY:Family  Gnocchi cooking class
DESCRIPTION:Our Parent and Child class is an invitation to slow down\,strengthen family bonds\, and rediscover the simple joy of working side-by-side. In our warm\, small-group setting\, you and your budding chef will  laugh\, learn\, and build the foundation for healthy\, sustainable habits that last long after the meal is over. \nIn this Gnocchi Cooking class you will learn kitchen basics; how to support your little chef while cooking family dinners while building connection through food. \nWhat you will learn:\nHow to support your budding chef with the magic of  knife skills in the home enviroment.\nMaster the Basics: Learn how to to create the perfect pillow like gnocchi.\nJoin us to create a delicious meal and memories that will nourish your family for years to come.\nAges 8-15\nLocation: Macedon Ranges.\n2 hrs\nCost: 135p couple\, (book group 4+ 105 p couple )\, for more information email here.
URL:https://lifeandforkcookingschool.com.au/event/family-gnocchi-cooking-class/
LOCATION:Life & Fork HQ\, Woodend\, Victoria\, 3442\, Australia
CATEGORIES:Adults,Family Cooking Class,gnocchi
ATTACH;FMTTYPE=image/jpeg:https://lifeandforkcookingschool.com.au/wp-content/uploads/2024/01/Life-and-Fork-Cooking-School-2023-11-01-00021.jpg
ORGANIZER;CN="Life & Fork Cooking School":MAILTO:info@lifeandforkcookingschool.com.au
END:VEVENT
BEGIN:VEVENT
DTSTART;TZID=Australia/Melbourne:20260328T093000
DTEND;TZID=Australia/Melbourne:20260328T233000
DTSTAMP:20260424T205402
CREATED:20260102T022235Z
LAST-MODIFIED:20260106T022536Z
UID:3613-1774690200-1774740600@lifeandforkcookingschool.com.au
SUMMARY:Parent and Child Pasta class
DESCRIPTION:Our Parent and Child class is an invitation to slow down\,strengthen family bonds\, and rediscover the simple joy of working side-by-side. In our warm\, small-group setting\, you and your budding chef will  laugh\, learn\, and build the foundation for healthy\, sustainable habits that last long after the meal is over. \nIn this Family Pasta Cooking class you will learn kitchen basics; how to support your little chef while cooking family dinners while building connection through food. \nWhat you will learn:\nHow to support your budding chef with the magic of  knife skills in the home enviroment.\nMaster the Basics:Learn to knead\, roll\, and use a pasta machine to create the perfect texture.\nJoin us to create a delicious meal and memories that will nourish your family for years to come.\nAges 8-15\nLocation: Macedon Ranges.\n2 hrs\nCost: 135p couple\, (book group 4 ; 105 per couple )\, for more information email here.
URL:https://lifeandforkcookingschool.com.au/event/parent-and-child-pasta-class/
LOCATION:Life & Fork HQ\, Woodend\, Victoria\, 3442\, Australia
CATEGORIES:Adults,Family Cooking Class
ATTACH;FMTTYPE=image/jpeg:https://lifeandforkcookingschool.com.au/wp-content/uploads/2020/07/20200707-DSC02698-scaled.jpg
ORGANIZER;CN="Life & Fork Cooking School":MAILTO:info@lifeandforkcookingschool.com.au
END:VEVENT
END:VCALENDAR