BEGIN:VCALENDAR
VERSION:2.0
PRODID:-//Life &amp; Fork Cooking School - ECPv6.15.18//NONSGML v1.0//EN
CALSCALE:GREGORIAN
METHOD:PUBLISH
X-WR-CALNAME:Life &amp; Fork Cooking School
X-ORIGINAL-URL:https://lifeandforkcookingschool.com.au
X-WR-CALDESC:Events for Life &amp; Fork Cooking School
REFRESH-INTERVAL;VALUE=DURATION:PT1H
X-Robots-Tag:noindex
X-PUBLISHED-TTL:PT1H
BEGIN:VTIMEZONE
TZID:Australia/Melbourne
BEGIN:STANDARD
TZOFFSETFROM:+1100
TZOFFSETTO:+1000
TZNAME:AEST
DTSTART:20230401T160000
END:STANDARD
BEGIN:DAYLIGHT
TZOFFSETFROM:+1000
TZOFFSETTO:+1100
TZNAME:AEDT
DTSTART:20230930T160000
END:DAYLIGHT
BEGIN:STANDARD
TZOFFSETFROM:+1100
TZOFFSETTO:+1000
TZNAME:AEST
DTSTART:20240406T160000
END:STANDARD
BEGIN:DAYLIGHT
TZOFFSETFROM:+1000
TZOFFSETTO:+1100
TZNAME:AEDT
DTSTART:20241005T160000
END:DAYLIGHT
BEGIN:STANDARD
TZOFFSETFROM:+1100
TZOFFSETTO:+1000
TZNAME:AEST
DTSTART:20250405T160000
END:STANDARD
BEGIN:DAYLIGHT
TZOFFSETFROM:+1000
TZOFFSETTO:+1100
TZNAME:AEDT
DTSTART:20251004T160000
END:DAYLIGHT
END:VTIMEZONE
BEGIN:VEVENT
DTSTART;TZID=Australia/Melbourne:20240725T163000
DTEND;TZID=Australia/Melbourne:20240725T180000
DTSTAMP:20260426T073613
CREATED:20240701T021332Z
LAST-MODIFIED:20240701T021528Z
UID:3045-1721925000-1721930400@lifeandforkcookingschool.com.au
SUMMARY:Teens Cooking Class 4 week workshop
DESCRIPTION:In this action packed after school cooking class\, students will prepare\,\nchop\, sift\, saute\, and create dishes from around the world.\nThey will be guided through a variety of skills building\nconfidence\,knowledge\, taste buds and kitchen life skills.\nIn this fun class they will learn good foundations to healthy cooking\nand new ways to actively engage with food.\nFor more information\nemail : info@lifeandforkcookingschool.com.au\nAge:12-16\n4 week workshop
URL:https://lifeandforkcookingschool.com.au/event/teens-cooking-class-4-week-workshop/2024-07-25/
LOCATION:Life & Fork HQ\, Woodend\, Victoria\, 3442\, Australia
CATEGORIES:Afterschoolcookingclass,Teens Cooking
ATTACH;FMTTYPE=image/jpeg:https://lifeandforkcookingschool.com.au/wp-content/uploads/2021/10/Life-and-Fork-Cooking-School-00990-e1712720547930.jpg
ORGANIZER;CN="Life & Fork Cooking School":MAILTO:info@lifeandforkcookingschool.com.au
END:VEVENT
END:VCALENDAR