BEGIN:VCALENDAR
VERSION:2.0
PRODID:-//Life &amp; Fork Cooking School - ECPv6.15.18//NONSGML v1.0//EN
CALSCALE:GREGORIAN
METHOD:PUBLISH
X-WR-CALNAME:Life &amp; Fork Cooking School
X-ORIGINAL-URL:https://lifeandforkcookingschool.com.au
X-WR-CALDESC:Events for Life &amp; Fork Cooking School
REFRESH-INTERVAL;VALUE=DURATION:PT1H
X-Robots-Tag:noindex
X-PUBLISHED-TTL:PT1H
BEGIN:VTIMEZONE
TZID:Australia/Melbourne
BEGIN:STANDARD
TZOFFSETFROM:+1100
TZOFFSETTO:+1000
TZNAME:AEST
DTSTART:20240406T160000
END:STANDARD
BEGIN:DAYLIGHT
TZOFFSETFROM:+1000
TZOFFSETTO:+1100
TZNAME:AEDT
DTSTART:20241005T160000
END:DAYLIGHT
BEGIN:STANDARD
TZOFFSETFROM:+1100
TZOFFSETTO:+1000
TZNAME:AEST
DTSTART:20250405T160000
END:STANDARD
BEGIN:DAYLIGHT
TZOFFSETFROM:+1000
TZOFFSETTO:+1100
TZNAME:AEDT
DTSTART:20251004T160000
END:DAYLIGHT
BEGIN:STANDARD
TZOFFSETFROM:+1100
TZOFFSETTO:+1000
TZNAME:AEST
DTSTART:20260404T160000
END:STANDARD
BEGIN:DAYLIGHT
TZOFFSETFROM:+1000
TZOFFSETTO:+1100
TZNAME:AEDT
DTSTART:20261003T160000
END:DAYLIGHT
END:VTIMEZONE
BEGIN:VEVENT
DTSTART;TZID=Australia/Melbourne:20250829T103000
DTEND;TZID=Australia/Melbourne:20250829T123000
DTSTAMP:20260425T000820
CREATED:20250426T103322Z
LAST-MODIFIED:20250629T043828Z
UID:3505-1756463400-1756470600@lifeandforkcookingschool.com.au
SUMMARY:Pasta Class\, Express 101
DESCRIPTION:Unleash your inner Italian chef at Life and Fork cooking school’s Pasta Cooking Class! This engaging express class combines demonstration and hands-on practice\, guiding you through the simple yet exquisite art of handmade pasta. You’ll learn to create pasta dough with both egg and semolina\, mastering techniques by hand and with a pasta machine. Prepare for a taste sensation – once you’ve made your own handmade pasta\, there’s no turning back! Suitable for all skill levels\, you’ll craft two iconic pasta dishes: elegant tagliatelle (made with a machine) and flavorful ricotta and spinach ravioli. To finish with a flavourful sage butter sauce to complement your tagliatelle and crostoli. Book Now !\nWe will cook:\nRavioli filled with ricotta and spinach.\nTagliatelle with Sage butter sauce.\nCrostoli.\nLocation: Macedon Ranges.\nCost: $80 per person\, or $60 per person for groups of 4 or more.\nDuration: 2 hrs.\nTake home meals.\nBook here for other express classes. Email here for group bookings and more  information.
URL:https://lifeandforkcookingschool.com.au/event/pasta-class-express-101/
LOCATION:Life & Fork HQ\, Woodend\, Victoria\, 3442\, Australia
CATEGORIES:Adults,Express cooking class,italian,Pasta
ATTACH;FMTTYPE=image/jpeg:https://lifeandforkcookingschool.com.au/wp-content/uploads/2020/07/20200707-DSC02696-scaled.jpg
ORGANIZER;CN="Life & Fork Cooking School":MAILTO:info@lifeandforkcookingschool.com.au
END:VEVENT
BEGIN:VEVENT
DTSTART;TZID=Australia/Melbourne:20250822T140000
DTEND;TZID=Australia/Melbourne:20250822T160000
DTSTAMP:20260425T000820
CREATED:20250428T075829Z
LAST-MODIFIED:20250629T044750Z
UID:3520-1755871200-1755878400@lifeandforkcookingschool.com.au
SUMMARY:Hand rolled Pasta Class\, Express
DESCRIPTION:Discover the simple beauty of Italian pasta making in this beginner-friendly class! This engaging express class combines demonstration and hands-on practice\, guiding you through the simple yet exquisite art of handmade pasta. Using the freshest ingredients\, you’ll learn step-by-step how to create silky dough by hand and shape delicious Pici and Cavatelli. Once you taste your own handmade pasta\, you’ll be hooked! With a maximum of 8 participants\, you’re guaranteed an intimate and supportive learning environment. Absolutely no prior experience is necessary\, making this culinary adventure accessible to everyone. By the end of the session\, you’ll not only feel confident and inspired to bring an authentic taste of Italy to your kitchen but also eager to share your newfound skills with family and friends\, take extra home to share.\nWe will Hand make :\nPici pasta cacio e pepe\nCavatelli  simple tomatoe sauce\nLocation: Macedon Ranges.\nCost: $80 per person\, or $60 per person for groups of 4 or more.\nDuration: 2 hrs.\nBring a 2 lit container to take goodies.\nBook here for other express classes. Email here for group bookings and more information.
URL:https://lifeandforkcookingschool.com.au/event/hand-rolled-pasta-class-express/
LOCATION:Life & Fork HQ\, Woodend\, Victoria\, 3442\, Australia
CATEGORIES:Adults,Express cooking class,italian,Pasta
ATTACH;FMTTYPE=image/jpeg:https://lifeandforkcookingschool.com.au/wp-content/uploads/2024/01/Life-and-Fork-Cooking-School-2023-11-01-00021.jpg
ORGANIZER;CN="Life & Fork Cooking School":MAILTO:info@lifeandforkcookingschool.com.au
END:VEVENT
BEGIN:VEVENT
DTSTART;TZID=Australia/Melbourne:20250716T090000
DTEND;TZID=Australia/Melbourne:20250716T113000
DTSTAMP:20260425T000820
CREATED:20250430T025038Z
LAST-MODIFIED:20250629T034200Z
UID:3545-1752656400-1752665400@lifeandforkcookingschool.com.au
SUMMARY:Pasta class\, School Holiday Program
DESCRIPTION:At Life and Forks kids’ cooking classes\, we’re passionate about empowering children with the skills to create nutritious and delicious meals they can enjoy and share for life.\nOur holiday program dives into the exciting world of cultural cooking\, where kids will learn to prepare dishes from Italy\, France\, and Asia. Beyond the kitchen\, we’ll\nexplore where our food comes from and how our choices can make a positive difference for people and our planet.\nUnder the guidance of experienced instructors\, children will develop a range of culinary skills\, building their confidence\, expanding their food knowledge\, and broadening their palates. This series of classes aims to lay a foundation for healthy cooking habits and cultivate a joyful connection with food.\nPasta class:\nHand rolled Pici Pasta\nCavetelli sauce alfredo.\nCrostoli.\nAge:10-15.\n2.5 hrs.\nStudents have the option to join additional classes during these school holidays for further learning opportunities and discounts apply. Futher information please contact via email (here)
URL:https://lifeandforkcookingschool.com.au/event/pasta-class-school-holiday-program/
LOCATION:Life & Fork HQ\, Woodend\, Victoria\, 3442\, Australia
CATEGORIES:italian,School Holiday cooking classes,School holiday kids
ATTACH;FMTTYPE=image/jpeg:https://lifeandforkcookingschool.com.au/wp-content/uploads/2025/04/IMG_7257.jpg
ORGANIZER;CN="Life & Fork Cooking School":MAILTO:info@lifeandforkcookingschool.com.au
END:VEVENT
BEGIN:VEVENT
DTSTART;TZID=Australia/Melbourne:20250704T100000
DTEND;TZID=Australia/Melbourne:20250704T120000
DTSTAMP:20260425T000820
CREATED:20241125T070017Z
LAST-MODIFIED:20250629T043443Z
UID:3185-1751623200-1751630400@lifeandforkcookingschool.com.au
SUMMARY:Pasta Cooking Class\, Express\, 101   SOLD OUT
DESCRIPTION:Unleash your inner Italian chef at Life and Fork cooking school’s Pasta Cooking Class! This engaging express class combines demonstration and hands-on practice\, guiding you through the simple yet exquisite art of handmade pasta. You’ll learn to create pasta dough with both egg and semolina\, mastering techniques by hand and with a pasta machine. Prepare for a taste sensation – once you’ve made your own handmade pasta\, there’s no turning back! Suitable for all skill levels\, you’ll craft two iconic pasta dishes: elegant tagliatelle (made with a machine) and flavorful ricotta and spinach ravioli. To finish with a flavourful sage butter sauce to complement your tagliatelle and crostoli. Book Now !\nWe will cook:\nRavioli filled with ricotta and spinach.\nTagliatelle with Sage butter sauce.\nCrostoli.\nLocation: Macedon Ranges.\nCost: $80 per person\, or $60 per person for groups of 4 or more.\nDuration:2 hrs.\nTake home meals.\nBook here for other express classes. Email here for group bookings and more  information.
URL:https://lifeandforkcookingschool.com.au/event/express-pasta-101-cooking-class/
LOCATION:Life & Fork HQ\, Woodend\, Victoria\, 3442\, Australia
CATEGORIES:Adults,Express cooking class,italian,Pasta,vegetarian
ATTACH;FMTTYPE=image/jpeg:https://lifeandforkcookingschool.com.au/wp-content/uploads/2020/07/20200707-DSC02696-scaled.jpg
ORGANIZER;CN="Life & Fork Cooking School":MAILTO:info@lifeandforkcookingschool.com.au
END:VEVENT
BEGIN:VEVENT
DTSTART;TZID=Australia/Melbourne:20250621T093000
DTEND;TZID=Australia/Melbourne:20250621T110000
DTSTAMP:20260425T000820
CREATED:20241124T072037Z
LAST-MODIFIED:20250523T012201Z
UID:3164-1750498200-1750503600@lifeandforkcookingschool.com.au
SUMMARY:Parent and Child Cooking Class
DESCRIPTION:This Parent and Child Cooking class is the perfect recipe for family fun! Imagine working side-by-side\, laughing\, and learning to whip up a fantastic family meal right in your own kitchen. \nWe believe cooking together is a wonderful way to connect\, and our interactive\, small group classes are designed to make learning new skills an absolute joy. Whether you’re looking to expand your culinary repertoire or simply enjoy a relaxing time with your little chef\, you’ll leave feeling confident and inspired.\nIn this Family Pasta Cooking class you will learn kitchen basics; how to support your little chef while cooking family dinners while building connection through food. Join us and discover the incredible flavors you can create as a team!\nIn this hands on Pasta class\,we will make 2 types of pasta handrolled and by the pasta machine\, with an extra dessert surprise.\nReady to create some delicious memories with your child? Book Here! \nAges 8-12\nLocation: Macedon Ranges.\n1.5 hrs\nCost: 135p couple\, book group 4+ 105 p couple )\, for more information email here.
URL:https://lifeandforkcookingschool.com.au/event/parent-and-child-cooking-class/
LOCATION:Life & Fork HQ\, Woodend\, Victoria\, 3442\, Australia
CATEGORIES:Adults,Family Cooking Class,italian,Parent and Child Cooking Class,Pasta
ATTACH;FMTTYPE=image/jpeg:https://lifeandforkcookingschool.com.au/wp-content/uploads/2020/07/20200707-DSC02696-scaled.jpg
ORGANIZER;CN="Life & Fork Cooking School":MAILTO:info@lifeandforkcookingschool.com.au
END:VEVENT
END:VCALENDAR