BEGIN:VCALENDAR
VERSION:2.0
PRODID:-//Life &amp; Fork Cooking School - ECPv6.15.18//NONSGML v1.0//EN
CALSCALE:GREGORIAN
METHOD:PUBLISH
X-WR-CALNAME:Life &amp; Fork Cooking School
X-ORIGINAL-URL:https://lifeandforkcookingschool.com.au
X-WR-CALDESC:Events for Life &amp; Fork Cooking School
REFRESH-INTERVAL;VALUE=DURATION:PT1H
X-Robots-Tag:noindex
X-PUBLISHED-TTL:PT1H
BEGIN:VTIMEZONE
TZID:Australia/Melbourne
BEGIN:STANDARD
TZOFFSETFROM:+1100
TZOFFSETTO:+1000
TZNAME:AEST
DTSTART:20240406T160000
END:STANDARD
BEGIN:DAYLIGHT
TZOFFSETFROM:+1000
TZOFFSETTO:+1100
TZNAME:AEDT
DTSTART:20241005T160000
END:DAYLIGHT
BEGIN:STANDARD
TZOFFSETFROM:+1100
TZOFFSETTO:+1000
TZNAME:AEST
DTSTART:20250405T160000
END:STANDARD
BEGIN:DAYLIGHT
TZOFFSETFROM:+1000
TZOFFSETTO:+1100
TZNAME:AEDT
DTSTART:20251004T160000
END:DAYLIGHT
BEGIN:STANDARD
TZOFFSETFROM:+1100
TZOFFSETTO:+1000
TZNAME:AEST
DTSTART:20260404T160000
END:STANDARD
BEGIN:DAYLIGHT
TZOFFSETFROM:+1000
TZOFFSETTO:+1100
TZNAME:AEDT
DTSTART:20261003T160000
END:DAYLIGHT
END:VTIMEZONE
BEGIN:VEVENT
DTSTART;TZID=Australia/Melbourne:20250704T100000
DTEND;TZID=Australia/Melbourne:20250704T120000
DTSTAMP:20260425T121959
CREATED:20241125T070017Z
LAST-MODIFIED:20250629T043443Z
UID:3185-1751623200-1751630400@lifeandforkcookingschool.com.au
SUMMARY:Pasta Cooking Class\, Express\, 101   SOLD OUT
DESCRIPTION:Unleash your inner Italian chef at Life and Fork cooking school’s Pasta Cooking Class! This engaging express class combines demonstration and hands-on practice\, guiding you through the simple yet exquisite art of handmade pasta. You’ll learn to create pasta dough with both egg and semolina\, mastering techniques by hand and with a pasta machine. Prepare for a taste sensation – once you’ve made your own handmade pasta\, there’s no turning back! Suitable for all skill levels\, you’ll craft two iconic pasta dishes: elegant tagliatelle (made with a machine) and flavorful ricotta and spinach ravioli. To finish with a flavourful sage butter sauce to complement your tagliatelle and crostoli. Book Now !\nWe will cook:\nRavioli filled with ricotta and spinach.\nTagliatelle with Sage butter sauce.\nCrostoli.\nLocation: Macedon Ranges.\nCost: $80 per person\, or $60 per person for groups of 4 or more.\nDuration:2 hrs.\nTake home meals.\nBook here for other express classes. Email here for group bookings and more  information.
URL:https://lifeandforkcookingschool.com.au/event/express-pasta-101-cooking-class/
LOCATION:Life & Fork HQ\, Woodend\, Victoria\, 3442\, Australia
CATEGORIES:Adults,Express cooking class,italian,Pasta,vegetarian
ATTACH;FMTTYPE=image/jpeg:https://lifeandforkcookingschool.com.au/wp-content/uploads/2020/07/20200707-DSC02696-scaled.jpg
ORGANIZER;CN="Life & Fork Cooking School":MAILTO:info@lifeandforkcookingschool.com.au
END:VEVENT
BEGIN:VEVENT
DTSTART;TZID=Australia/Melbourne:20250716T090000
DTEND;TZID=Australia/Melbourne:20250716T113000
DTSTAMP:20260425T121959
CREATED:20250430T025038Z
LAST-MODIFIED:20250629T034200Z
UID:3545-1752656400-1752665400@lifeandforkcookingschool.com.au
SUMMARY:Pasta class\, School Holiday Program
DESCRIPTION:At Life and Forks kids’ cooking classes\, we’re passionate about empowering children with the skills to create nutritious and delicious meals they can enjoy and share for life.\nOur holiday program dives into the exciting world of cultural cooking\, where kids will learn to prepare dishes from Italy\, France\, and Asia. Beyond the kitchen\, we’ll\nexplore where our food comes from and how our choices can make a positive difference for people and our planet.\nUnder the guidance of experienced instructors\, children will develop a range of culinary skills\, building their confidence\, expanding their food knowledge\, and broadening their palates. This series of classes aims to lay a foundation for healthy cooking habits and cultivate a joyful connection with food.\nPasta class:\nHand rolled Pici Pasta\nCavetelli sauce alfredo.\nCrostoli.\nAge:10-15.\n2.5 hrs.\nStudents have the option to join additional classes during these school holidays for further learning opportunities and discounts apply. Futher information please contact via email (here)
URL:https://lifeandforkcookingschool.com.au/event/pasta-class-school-holiday-program/
LOCATION:Life & Fork HQ\, Woodend\, Victoria\, 3442\, Australia
CATEGORIES:italian,School Holiday cooking classes,School holiday kids
ATTACH;FMTTYPE=image/jpeg:https://lifeandforkcookingschool.com.au/wp-content/uploads/2025/04/IMG_7257.jpg
ORGANIZER;CN="Life & Fork Cooking School":MAILTO:info@lifeandforkcookingschool.com.au
END:VEVENT
END:VCALENDAR