BEGIN:VCALENDAR
VERSION:2.0
PRODID:-//Life &amp; Fork Cooking School - ECPv6.15.18//NONSGML v1.0//EN
CALSCALE:GREGORIAN
METHOD:PUBLISH
X-WR-CALNAME:Life &amp; Fork Cooking School
X-ORIGINAL-URL:https://lifeandforkcookingschool.com.au
X-WR-CALDESC:Events for Life &amp; Fork Cooking School
REFRESH-INTERVAL;VALUE=DURATION:PT1H
X-Robots-Tag:noindex
X-PUBLISHED-TTL:PT1H
BEGIN:VTIMEZONE
TZID:Australia/Melbourne
BEGIN:STANDARD
TZOFFSETFROM:+1100
TZOFFSETTO:+1000
TZNAME:AEST
DTSTART:20250405T160000
END:STANDARD
BEGIN:DAYLIGHT
TZOFFSETFROM:+1000
TZOFFSETTO:+1100
TZNAME:AEDT
DTSTART:20251004T160000
END:DAYLIGHT
BEGIN:STANDARD
TZOFFSETFROM:+1100
TZOFFSETTO:+1000
TZNAME:AEST
DTSTART:20260404T160000
END:STANDARD
BEGIN:DAYLIGHT
TZOFFSETFROM:+1000
TZOFFSETTO:+1100
TZNAME:AEDT
DTSTART:20261003T160000
END:DAYLIGHT
BEGIN:STANDARD
TZOFFSETFROM:+1100
TZOFFSETTO:+1000
TZNAME:AEST
DTSTART:20270403T160000
END:STANDARD
BEGIN:DAYLIGHT
TZOFFSETFROM:+1000
TZOFFSETTO:+1100
TZNAME:AEDT
DTSTART:20271002T160000
END:DAYLIGHT
END:VTIMEZONE
BEGIN:VEVENT
DTSTART;TZID=Australia/Melbourne:20260228T093000
DTEND;TZID=Australia/Melbourne:20260228T113000
DTSTAMP:20260424T222539
CREATED:20260106T003223Z
LAST-MODIFIED:20260226T054414Z
UID:3621-1772271000-1772278200@lifeandforkcookingschool.com.au
SUMMARY:Family  Gnocchi cooking class
DESCRIPTION:Our Parent and Child class is an invitation to slow down\,strengthen family bonds\, and rediscover the simple joy of working side-by-side. In our warm\, small-group setting\, you and your budding chef will  laugh\, learn\, and build the foundation for healthy\, sustainable habits that last long after the meal is over. \nIn this Gnocchi Cooking class you will learn kitchen basics; how to support your little chef while cooking family dinners while building connection through food. \nWhat you will learn:\nHow to support your budding chef with the magic of  knife skills in the home enviroment.\nMaster the Basics: Learn how to to create the perfect pillow like gnocchi.\nJoin us to create a delicious meal and memories that will nourish your family for years to come.\nAges 8-15\nLocation: Macedon Ranges.\n2 hrs\nCost: 135p couple\, (book group 4+ 105 p couple )\, for more information email here.
URL:https://lifeandforkcookingschool.com.au/event/family-gnocchi-cooking-class/
LOCATION:Life & Fork HQ\, Woodend\, Victoria\, 3442\, Australia
CATEGORIES:Adults,Family Cooking Class,gnocchi
ATTACH;FMTTYPE=image/jpeg:https://lifeandforkcookingschool.com.au/wp-content/uploads/2024/01/Life-and-Fork-Cooking-School-2023-11-01-00021.jpg
ORGANIZER;CN="Life & Fork Cooking School":MAILTO:info@lifeandforkcookingschool.com.au
END:VEVENT
END:VCALENDAR