BEGIN:VCALENDAR
VERSION:2.0
PRODID:-//Life &amp; Fork Cooking School - ECPv6.15.18//NONSGML v1.0//EN
CALSCALE:GREGORIAN
METHOD:PUBLISH
X-WR-CALNAME:Life &amp; Fork Cooking School
X-ORIGINAL-URL:https://lifeandforkcookingschool.com.au
X-WR-CALDESC:Events for Life &amp; Fork Cooking School
REFRESH-INTERVAL;VALUE=DURATION:PT1H
X-Robots-Tag:noindex
X-PUBLISHED-TTL:PT1H
BEGIN:VTIMEZONE
TZID:Australia/Melbourne
BEGIN:STANDARD
TZOFFSETFROM:+1100
TZOFFSETTO:+1000
TZNAME:AEST
DTSTART:20240406T160000
END:STANDARD
BEGIN:DAYLIGHT
TZOFFSETFROM:+1000
TZOFFSETTO:+1100
TZNAME:AEDT
DTSTART:20241005T160000
END:DAYLIGHT
BEGIN:STANDARD
TZOFFSETFROM:+1100
TZOFFSETTO:+1000
TZNAME:AEST
DTSTART:20250405T160000
END:STANDARD
BEGIN:DAYLIGHT
TZOFFSETFROM:+1000
TZOFFSETTO:+1100
TZNAME:AEDT
DTSTART:20251004T160000
END:DAYLIGHT
BEGIN:STANDARD
TZOFFSETFROM:+1100
TZOFFSETTO:+1000
TZNAME:AEST
DTSTART:20260404T160000
END:STANDARD
BEGIN:DAYLIGHT
TZOFFSETFROM:+1000
TZOFFSETTO:+1100
TZNAME:AEDT
DTSTART:20261003T160000
END:DAYLIGHT
END:VTIMEZONE
BEGIN:VEVENT
DTSTART;TZID=Australia/Melbourne:20250401T160000
DTEND;TZID=Australia/Melbourne:20250401T173000
DTSTAMP:20260424T205233
CREATED:20241224T025450Z
LAST-MODIFIED:20250112T043059Z
UID:3314-1743523200-1743528600@lifeandforkcookingschool.com.au
SUMMARY:Cooking class NDIS group lesson
DESCRIPTION:Our participants will be encouraged and supervised\nin a supportive environment as they learn the following skills:\n– Capacity Building\n– Life Skills of Cooking\n– Kitchen Safety\n– Basic Knife Skills\n– Food Knowledge\nDuring this learning process\, they will have the opportunity\nto make new friends and increase their sense of belonging\,\nconfidence\, and self-worth.\n1.5hrs\nRatio 1:4
URL:https://lifeandforkcookingschool.com.au/event/cooking-class-ndis-group-lesson/2025-04-01/
LOCATION:Life & Fork HQ\, Woodend\, Victoria\, 3442\, Australia
CATEGORIES:NDIS,Skills,Teens Cooking
ATTACH;FMTTYPE=image/jpeg:https://lifeandforkcookingschool.com.au/wp-content/uploads/2024/12/IMG_9721.jpeg
ORGANIZER;CN="Life & Fork Cooking School":MAILTO:info@lifeandforkcookingschool.com.au
END:VEVENT
BEGIN:VEVENT
DTSTART;TZID=Australia/Melbourne:20250325T160000
DTEND;TZID=Australia/Melbourne:20250325T173000
DTSTAMP:20260424T205233
CREATED:20241224T025450Z
LAST-MODIFIED:20250112T043059Z
UID:3313-1742918400-1742923800@lifeandforkcookingschool.com.au
SUMMARY:Cooking class NDIS group lesson
DESCRIPTION:Our participants will be encouraged and supervised\nin a supportive environment as they learn the following skills:\n– Capacity Building\n– Life Skills of Cooking\n– Kitchen Safety\n– Basic Knife Skills\n– Food Knowledge\nDuring this learning process\, they will have the opportunity\nto make new friends and increase their sense of belonging\,\nconfidence\, and self-worth.\n1.5hrs\nRatio 1:4
URL:https://lifeandforkcookingschool.com.au/event/cooking-class-ndis-group-lesson/2025-03-25/
LOCATION:Life & Fork HQ\, Woodend\, Victoria\, 3442\, Australia
CATEGORIES:NDIS,Skills,Teens Cooking
ATTACH;FMTTYPE=image/jpeg:https://lifeandforkcookingschool.com.au/wp-content/uploads/2024/12/IMG_9721.jpeg
ORGANIZER;CN="Life & Fork Cooking School":MAILTO:info@lifeandforkcookingschool.com.au
END:VEVENT
BEGIN:VEVENT
DTSTART;TZID=Australia/Melbourne:20250318T160000
DTEND;TZID=Australia/Melbourne:20250318T173000
DTSTAMP:20260424T205233
CREATED:20241224T025450Z
LAST-MODIFIED:20250112T043058Z
UID:3312-1742313600-1742319000@lifeandforkcookingschool.com.au
SUMMARY:Cooking class NDIS group lesson
DESCRIPTION:Our participants will be encouraged and supervised\nin a supportive environment as they learn the following skills:\n– Capacity Building\n– Life Skills of Cooking\n– Kitchen Safety\n– Basic Knife Skills\n– Food Knowledge\nDuring this learning process\, they will have the opportunity\nto make new friends and increase their sense of belonging\,\nconfidence\, and self-worth.\n1.5hrs\nRatio 1:4
URL:https://lifeandforkcookingschool.com.au/event/cooking-class-ndis-group-lesson/2025-03-18/
LOCATION:Life & Fork HQ\, Woodend\, Victoria\, 3442\, Australia
CATEGORIES:NDIS,Skills,Teens Cooking
ATTACH;FMTTYPE=image/jpeg:https://lifeandforkcookingschool.com.au/wp-content/uploads/2024/12/IMG_9721.jpeg
ORGANIZER;CN="Life & Fork Cooking School":MAILTO:info@lifeandforkcookingschool.com.au
END:VEVENT
BEGIN:VEVENT
DTSTART;TZID=Australia/Melbourne:20250311T160000
DTEND;TZID=Australia/Melbourne:20250311T173000
DTSTAMP:20260424T205233
CREATED:20241224T025450Z
LAST-MODIFIED:20250112T043058Z
UID:3311-1741708800-1741714200@lifeandforkcookingschool.com.au
SUMMARY:Cooking class NDIS group lesson
DESCRIPTION:Our participants will be encouraged and supervised\nin a supportive environment as they learn the following skills:\n– Capacity Building\n– Life Skills of Cooking\n– Kitchen Safety\n– Basic Knife Skills\n– Food Knowledge\nDuring this learning process\, they will have the opportunity\nto make new friends and increase their sense of belonging\,\nconfidence\, and self-worth.\n1.5hrs\nRatio 1:4
URL:https://lifeandforkcookingschool.com.au/event/cooking-class-ndis-group-lesson/2025-03-11/
LOCATION:Life & Fork HQ\, Woodend\, Victoria\, 3442\, Australia
CATEGORIES:NDIS,Skills,Teens Cooking
ATTACH;FMTTYPE=image/jpeg:https://lifeandforkcookingschool.com.au/wp-content/uploads/2024/12/IMG_9721.jpeg
ORGANIZER;CN="Life & Fork Cooking School":MAILTO:info@lifeandforkcookingschool.com.au
END:VEVENT
BEGIN:VEVENT
DTSTART;TZID=Australia/Melbourne:20250304T160000
DTEND;TZID=Australia/Melbourne:20250304T173000
DTSTAMP:20260424T205233
CREATED:20241224T025450Z
LAST-MODIFIED:20250112T043058Z
UID:3310-1741104000-1741109400@lifeandforkcookingschool.com.au
SUMMARY:Cooking class NDIS group lesson
DESCRIPTION:Our participants will be encouraged and supervised\nin a supportive environment as they learn the following skills:\n– Capacity Building\n– Life Skills of Cooking\n– Kitchen Safety\n– Basic Knife Skills\n– Food Knowledge\nDuring this learning process\, they will have the opportunity\nto make new friends and increase their sense of belonging\,\nconfidence\, and self-worth.\n1.5hrs\nRatio 1:4
URL:https://lifeandforkcookingschool.com.au/event/cooking-class-ndis-group-lesson/2025-03-04/
LOCATION:Life & Fork HQ\, Woodend\, Victoria\, 3442\, Australia
CATEGORIES:NDIS,Skills,Teens Cooking
ATTACH;FMTTYPE=image/jpeg:https://lifeandforkcookingschool.com.au/wp-content/uploads/2024/12/IMG_9721.jpeg
ORGANIZER;CN="Life & Fork Cooking School":MAILTO:info@lifeandforkcookingschool.com.au
END:VEVENT
BEGIN:VEVENT
DTSTART;TZID=Australia/Melbourne:20250225T160000
DTEND;TZID=Australia/Melbourne:20250225T173000
DTSTAMP:20260424T205233
CREATED:20241224T025450Z
LAST-MODIFIED:20250112T043058Z
UID:3309-1740499200-1740504600@lifeandforkcookingschool.com.au
SUMMARY:Cooking class NDIS group lesson
DESCRIPTION:Our participants will be encouraged and supervised\nin a supportive environment as they learn the following skills:\n– Capacity Building\n– Life Skills of Cooking\n– Kitchen Safety\n– Basic Knife Skills\n– Food Knowledge\nDuring this learning process\, they will have the opportunity\nto make new friends and increase their sense of belonging\,\nconfidence\, and self-worth.\n1.5hrs\nRatio 1:4
URL:https://lifeandforkcookingschool.com.au/event/cooking-class-ndis-group-lesson/2025-02-25/
LOCATION:Life & Fork HQ\, Woodend\, Victoria\, 3442\, Australia
CATEGORIES:NDIS,Skills,Teens Cooking
ATTACH;FMTTYPE=image/jpeg:https://lifeandforkcookingschool.com.au/wp-content/uploads/2024/12/IMG_9721.jpeg
ORGANIZER;CN="Life & Fork Cooking School":MAILTO:info@lifeandforkcookingschool.com.au
END:VEVENT
BEGIN:VEVENT
DTSTART;TZID=Australia/Melbourne:20250218T160000
DTEND;TZID=Australia/Melbourne:20250218T173000
DTSTAMP:20260424T205233
CREATED:20241224T025450Z
LAST-MODIFIED:20250112T043058Z
UID:3308-1739894400-1739899800@lifeandforkcookingschool.com.au
SUMMARY:Cooking class NDIS group lesson
DESCRIPTION:Our participants will be encouraged and supervised\nin a supportive environment as they learn the following skills:\n– Capacity Building\n– Life Skills of Cooking\n– Kitchen Safety\n– Basic Knife Skills\n– Food Knowledge\nDuring this learning process\, they will have the opportunity\nto make new friends and increase their sense of belonging\,\nconfidence\, and self-worth.\n1.5hrs\nRatio 1:4
URL:https://lifeandforkcookingschool.com.au/event/cooking-class-ndis-group-lesson/2025-02-18/
LOCATION:Life & Fork HQ\, Woodend\, Victoria\, 3442\, Australia
CATEGORIES:NDIS,Skills,Teens Cooking
ATTACH;FMTTYPE=image/jpeg:https://lifeandforkcookingschool.com.au/wp-content/uploads/2024/12/IMG_9721.jpeg
ORGANIZER;CN="Life & Fork Cooking School":MAILTO:info@lifeandforkcookingschool.com.au
END:VEVENT
BEGIN:VEVENT
DTSTART;TZID=Australia/Melbourne:20250211T160000
DTEND;TZID=Australia/Melbourne:20250211T173000
DTSTAMP:20260424T205233
CREATED:20241224T025450Z
LAST-MODIFIED:20250112T043058Z
UID:3307-1739289600-1739295000@lifeandforkcookingschool.com.au
SUMMARY:Cooking class NDIS group lesson
DESCRIPTION:Our participants will be encouraged and supervised\nin a supportive environment as they learn the following skills:\n– Capacity Building\n– Life Skills of Cooking\n– Kitchen Safety\n– Basic Knife Skills\n– Food Knowledge\nDuring this learning process\, they will have the opportunity\nto make new friends and increase their sense of belonging\,\nconfidence\, and self-worth.\n1.5hrs\nRatio 1:4
URL:https://lifeandforkcookingschool.com.au/event/cooking-class-ndis-group-lesson/2025-02-11/
LOCATION:Life & Fork HQ\, Woodend\, Victoria\, 3442\, Australia
CATEGORIES:NDIS,Skills,Teens Cooking
ATTACH;FMTTYPE=image/jpeg:https://lifeandforkcookingschool.com.au/wp-content/uploads/2024/12/IMG_9721.jpeg
ORGANIZER;CN="Life & Fork Cooking School":MAILTO:info@lifeandforkcookingschool.com.au
END:VEVENT
BEGIN:VEVENT
DTSTART;TZID=Australia/Melbourne:20250204T160000
DTEND;TZID=Australia/Melbourne:20250204T173000
DTSTAMP:20260424T205233
CREATED:20241224T025450Z
LAST-MODIFIED:20250112T043058Z
UID:3295-1738684800-1738690200@lifeandforkcookingschool.com.au
SUMMARY:Cooking class NDIS group lesson
DESCRIPTION:Our participants will be encouraged and supervised\nin a supportive environment as they learn the following skills:\n– Capacity Building\n– Life Skills of Cooking\n– Kitchen Safety\n– Basic Knife Skills\n– Food Knowledge\nDuring this learning process\, they will have the opportunity\nto make new friends and increase their sense of belonging\,\nconfidence\, and self-worth.\n1.5hrs\nRatio 1:4
URL:https://lifeandforkcookingschool.com.au/event/cooking-class-ndis-group-lesson/2025-02-04/
LOCATION:Life & Fork HQ\, Woodend\, Victoria\, 3442\, Australia
CATEGORIES:NDIS,Skills,Teens Cooking
ATTACH;FMTTYPE=image/jpeg:https://lifeandforkcookingschool.com.au/wp-content/uploads/2024/12/IMG_9721.jpeg
ORGANIZER;CN="Life & Fork Cooking School":MAILTO:info@lifeandforkcookingschool.com.au
END:VEVENT
END:VCALENDAR